BEGIN:VCALENDAR
VERSION:2.0
PRODID:-//Ορθόδοξη Ενορία Εὐαγγελισμοῦ τῆς Θεοτόκου Ουτρέχτης - ECPv6.15.13//NONSGML v1.0//EN
CALSCALE:GREGORIAN
METHOD:PUBLISH
X-ORIGINAL-URL:https://utrecht-orthodox.nl
X-WR-CALDESC:Events for Ορθόδοξη Ενορία Εὐαγγελισμοῦ τῆς Θεοτόκου Ουτρέχτης
REFRESH-INTERVAL;VALUE=DURATION:PT1H
X-Robots-Tag:noindex
X-PUBLISHED-TTL:PT1H
BEGIN:VTIMEZONE
TZID:Europe/Amsterdam
BEGIN:DAYLIGHT
TZOFFSETFROM:+0100
TZOFFSETTO:+0200
TZNAME:CEST
DTSTART:20240331T010000
END:DAYLIGHT
BEGIN:STANDARD
TZOFFSETFROM:+0200
TZOFFSETTO:+0100
TZNAME:CET
DTSTART:20241027T010000
END:STANDARD
BEGIN:DAYLIGHT
TZOFFSETFROM:+0100
TZOFFSETTO:+0200
TZNAME:CEST
DTSTART:20250330T010000
END:DAYLIGHT
BEGIN:STANDARD
TZOFFSETFROM:+0200
TZOFFSETTO:+0100
TZNAME:CET
DTSTART:20251026T010000
END:STANDARD
BEGIN:DAYLIGHT
TZOFFSETFROM:+0100
TZOFFSETTO:+0200
TZNAME:CEST
DTSTART:20260329T010000
END:DAYLIGHT
BEGIN:STANDARD
TZOFFSETFROM:+0200
TZOFFSETTO:+0100
TZNAME:CET
DTSTART:20261025T010000
END:STANDARD
END:VTIMEZONE
BEGIN:VEVENT
DTSTART;TZID=Europe/Amsterdam:20250906T180000
DTEND;TZID=Europe/Amsterdam:20250906T183000
DTSTAMP:20260423T083716
CREATED:20250501T100938Z
LAST-MODIFIED:20250501T100938Z
UID:5733-1757181600-1757183400@utrecht-orthodox.nl
SUMMARY:Εσπερινός
DESCRIPTION:
URL:https://utrecht-orthodox.nl/event/%ce%b5%cf%83%cf%80%ce%b5%cf%81%ce%b9%ce%bd%cf%8c%cf%82-15/
LOCATION:Ιερός Ναός Ευαγγελισμού της Θεοτόκου\, Springweg 89\, Utrecht\, 3511 VL\, Netherlands
CATEGORIES:Ιερές Ακολουθίες
ORGANIZER;CN="%CF%80. %CE%91%CE%BB%CE%AD%CE%BE%CE%B1%CE%BD%CE%B4%CF%81%CE%BF%CF%82 %CE%A0%CE%B9%CF%84%CF%83%CE%B9%CE%BA%CE%AC%CE%BA%CE%B7%CF%82":MAILTO:pitsikakisalexandros@gmail.com
END:VEVENT
BEGIN:VEVENT
DTSTART;TZID=Europe/Amsterdam:20250907T090000
DTEND;TZID=Europe/Amsterdam:20250907T120000
DTSTAMP:20260423T083716
CREATED:20250501T100939Z
LAST-MODIFIED:20250501T100939Z
UID:5734-1757235600-1757246400@utrecht-orthodox.nl
SUMMARY:Όρθρος και Θεία Λειτουργία
DESCRIPTION:
URL:https://utrecht-orthodox.nl/event/%cf%8c%cf%81%ce%b8%cf%81%ce%bf%cf%82-%ce%ba%ce%b1%ce%b9-%ce%b8%ce%b5%ce%af%ce%b1-%ce%bb%ce%b5%ce%b9%cf%84%ce%bf%cf%85%cf%81%ce%b3%ce%af%ce%b1-17/
LOCATION:Ιερός Ναός Ευαγγελισμού της Θεοτόκου\, Springweg 89\, Utrecht\, 3511 VL\, Netherlands
CATEGORIES:Ιερές Ακολουθίες
ORGANIZER;CN="%CF%80. %CE%91%CE%BB%CE%AD%CE%BE%CE%B1%CE%BD%CE%B4%CF%81%CE%BF%CF%82 %CE%A0%CE%B9%CF%84%CF%83%CE%B9%CE%BA%CE%AC%CE%BA%CE%B7%CF%82":MAILTO:pitsikakisalexandros@gmail.com
END:VEVENT
BEGIN:VEVENT
DTSTART;TZID=Europe/Amsterdam:20250908T190000
DTEND;TZID=Europe/Amsterdam:20250908T200000
DTSTAMP:20260423T083716
CREATED:20250501T100939Z
LAST-MODIFIED:20250501T100939Z
UID:5735-1757358000-1757361600@utrecht-orthodox.nl
SUMMARY:Εσπερινή Θεία Λειτουργία
DESCRIPTION:
URL:https://utrecht-orthodox.nl/event/%ce%b5%cf%83%cf%80%ce%b5%cf%81%ce%b9%ce%bd%ce%ae-%ce%b8%ce%b5%ce%af%ce%b1-%ce%bb%ce%b5%ce%b9%cf%84%ce%bf%cf%85%cf%81%ce%b3%ce%af%ce%b1-6/
LOCATION:Ιερός Ναός Ευαγγελισμού της Θεοτόκου\, Springweg 89\, Utrecht\, 3511 VL\, Netherlands
CATEGORIES:Ιερές Ακολουθίες
ORGANIZER;CN="%CF%80. %CE%91%CE%BB%CE%AD%CE%BE%CE%B1%CE%BD%CE%B4%CF%81%CE%BF%CF%82 %CE%A0%CE%B9%CF%84%CF%83%CE%B9%CE%BA%CE%AC%CE%BA%CE%B7%CF%82":MAILTO:pitsikakisalexandros@gmail.com
END:VEVENT
BEGIN:VEVENT
DTSTART;TZID=Europe/Amsterdam:20250913T180000
DTEND;TZID=Europe/Amsterdam:20250913T183000
DTSTAMP:20260423T083716
CREATED:20250501T100939Z
LAST-MODIFIED:20250501T100939Z
UID:5736-1757786400-1757788200@utrecht-orthodox.nl
SUMMARY:Εσπερινός
DESCRIPTION:
URL:https://utrecht-orthodox.nl/event/%ce%b5%cf%83%cf%80%ce%b5%cf%81%ce%b9%ce%bd%cf%8c%cf%82-16/
LOCATION:Ιερός Ναός Ευαγγελισμού της Θεοτόκου\, Springweg 89\, Utrecht\, 3511 VL\, Netherlands
CATEGORIES:Ιερές Ακολουθίες
ORGANIZER;CN="%CF%80. %CE%91%CE%BB%CE%AD%CE%BE%CE%B1%CE%BD%CE%B4%CF%81%CE%BF%CF%82 %CE%A0%CE%B9%CF%84%CF%83%CE%B9%CE%BA%CE%AC%CE%BA%CE%B7%CF%82":MAILTO:pitsikakisalexandros@gmail.com
END:VEVENT
BEGIN:VEVENT
DTSTART;TZID=Europe/Amsterdam:20250914T090000
DTEND;TZID=Europe/Amsterdam:20250914T120000
DTSTAMP:20260423T083716
CREATED:20250501T100939Z
LAST-MODIFIED:20250501T100939Z
UID:5737-1757840400-1757851200@utrecht-orthodox.nl
SUMMARY:Όρθρος και Θεία Λειτουργία
DESCRIPTION:
URL:https://utrecht-orthodox.nl/event/%cf%8c%cf%81%ce%b8%cf%81%ce%bf%cf%82-%ce%ba%ce%b1%ce%b9-%ce%b8%ce%b5%ce%af%ce%b1-%ce%bb%ce%b5%ce%b9%cf%84%ce%bf%cf%85%cf%81%ce%b3%ce%af%ce%b1-18/
LOCATION:Ιερός Ναός Ευαγγελισμού της Θεοτόκου\, Springweg 89\, Utrecht\, 3511 VL\, Netherlands
CATEGORIES:Ιερές Ακολουθίες
ORGANIZER;CN="%CF%80. %CE%91%CE%BB%CE%AD%CE%BE%CE%B1%CE%BD%CE%B4%CF%81%CE%BF%CF%82 %CE%A0%CE%B9%CF%84%CF%83%CE%B9%CE%BA%CE%AC%CE%BA%CE%B7%CF%82":MAILTO:pitsikakisalexandros@gmail.com
END:VEVENT
BEGIN:VEVENT
DTSTART;TZID=Europe/Amsterdam:20250920T180000
DTEND;TZID=Europe/Amsterdam:20250920T183000
DTSTAMP:20260423T083716
CREATED:20250501T100941Z
LAST-MODIFIED:20250501T100941Z
UID:5738-1758391200-1758393000@utrecht-orthodox.nl
SUMMARY:Εσπερινός
DESCRIPTION:
URL:https://utrecht-orthodox.nl/event/%ce%b5%cf%83%cf%80%ce%b5%cf%81%ce%b9%ce%bd%cf%8c%cf%82-17/
LOCATION:Ιερός Ναός Ευαγγελισμού της Θεοτόκου\, Springweg 89\, Utrecht\, 3511 VL\, Netherlands
CATEGORIES:Ιερές Ακολουθίες
ORGANIZER;CN="%CF%80. %CE%91%CE%BB%CE%AD%CE%BE%CE%B1%CE%BD%CE%B4%CF%81%CE%BF%CF%82 %CE%A0%CE%B9%CF%84%CF%83%CE%B9%CE%BA%CE%AC%CE%BA%CE%B7%CF%82":MAILTO:pitsikakisalexandros@gmail.com
END:VEVENT
BEGIN:VEVENT
DTSTART;TZID=Europe/Amsterdam:20250921T090000
DTEND;TZID=Europe/Amsterdam:20250921T120000
DTSTAMP:20260423T083716
CREATED:20250501T100941Z
LAST-MODIFIED:20250501T100941Z
UID:5739-1758445200-1758456000@utrecht-orthodox.nl
SUMMARY:Όρθρος και Θεία Λειτουργία
DESCRIPTION:
URL:https://utrecht-orthodox.nl/event/%cf%8c%cf%81%ce%b8%cf%81%ce%bf%cf%82-%ce%ba%ce%b1%ce%b9-%ce%b8%ce%b5%ce%af%ce%b1-%ce%bb%ce%b5%ce%b9%cf%84%ce%bf%cf%85%cf%81%ce%b3%ce%af%ce%b1-19/
LOCATION:Ιερός Ναός Ευαγγελισμού της Θεοτόκου\, Springweg 89\, Utrecht\, 3511 VL\, Netherlands
CATEGORIES:Ιερές Ακολουθίες
ORGANIZER;CN="%CF%80. %CE%91%CE%BB%CE%AD%CE%BE%CE%B1%CE%BD%CE%B4%CF%81%CE%BF%CF%82 %CE%A0%CE%B9%CF%84%CF%83%CE%B9%CE%BA%CE%AC%CE%BA%CE%B7%CF%82":MAILTO:pitsikakisalexandros@gmail.com
END:VEVENT
BEGIN:VEVENT
DTSTART;TZID=Europe/Amsterdam:20250927T180000
DTEND;TZID=Europe/Amsterdam:20250927T183000
DTSTAMP:20260423T083716
CREATED:20250501T100941Z
LAST-MODIFIED:20250501T100941Z
UID:5740-1758996000-1758997800@utrecht-orthodox.nl
SUMMARY:Εσπερινός
DESCRIPTION:
URL:https://utrecht-orthodox.nl/event/%ce%b5%cf%83%cf%80%ce%b5%cf%81%ce%b9%ce%bd%cf%8c%cf%82-18/
LOCATION:Ιερός Ναός Ευαγγελισμού της Θεοτόκου\, Springweg 89\, Utrecht\, 3511 VL\, Netherlands
CATEGORIES:Ιερές Ακολουθίες
ORGANIZER;CN="%CF%80. %CE%91%CE%BB%CE%AD%CE%BE%CE%B1%CE%BD%CE%B4%CF%81%CE%BF%CF%82 %CE%A0%CE%B9%CF%84%CF%83%CE%B9%CE%BA%CE%AC%CE%BA%CE%B7%CF%82":MAILTO:pitsikakisalexandros@gmail.com
END:VEVENT
BEGIN:VEVENT
DTSTART;TZID=Europe/Amsterdam:20250928T090000
DTEND;TZID=Europe/Amsterdam:20250928T120000
DTSTAMP:20260423T083716
CREATED:20250501T100942Z
LAST-MODIFIED:20250501T100942Z
UID:5741-1759050000-1759060800@utrecht-orthodox.nl
SUMMARY:Όρθρος και Θεία Λειτουργία
DESCRIPTION:
URL:https://utrecht-orthodox.nl/event/%cf%8c%cf%81%ce%b8%cf%81%ce%bf%cf%82-%ce%ba%ce%b1%ce%b9-%ce%b8%ce%b5%ce%af%ce%b1-%ce%bb%ce%b5%ce%b9%cf%84%ce%bf%cf%85%cf%81%ce%b3%ce%af%ce%b1-20/
LOCATION:Ιερός Ναός Ευαγγελισμού της Θεοτόκου\, Springweg 89\, Utrecht\, 3511 VL\, Netherlands
CATEGORIES:Ιερές Ακολουθίες
ORGANIZER;CN="%CF%80. %CE%91%CE%BB%CE%AD%CE%BE%CE%B1%CE%BD%CE%B4%CF%81%CE%BF%CF%82 %CE%A0%CE%B9%CF%84%CF%83%CE%B9%CE%BA%CE%AC%CE%BA%CE%B7%CF%82":MAILTO:pitsikakisalexandros@gmail.com
END:VEVENT
END:VCALENDAR